BEGIN:VCALENDAR
VERSION:2.0
PRODID:https://github.com/derhansen/sf_event_mgt
METHOD:PUBLISH
BEGIN:VEVENT
UID:2830-872@www.ameos.eu
CLASS: PUBLIC
SUMMARY:katapult Messe
DESCRIPTION:
LOCATION:CongressCentrum
DTSTAMP:20240421T164730Z
DTSTART:20240904T070000Z
DTEND:20240904T130000Z
END:VEVENT
END:VCALENDAR
